BEGIN:VCALENDAR
VERSION:2.0
PRODID:-//White Horse Show - ECPv6.15.20//NONSGML v1.0//EN
CALSCALE:GREGORIAN
METHOD:PUBLISH
X-WR-CALNAME:White Horse Show
X-ORIGINAL-URL:https://whms.org.uk
X-WR-CALDESC:Events for White Horse Show
REFRESH-INTERVAL;VALUE=DURATION:PT1H
X-Robots-Tag:noindex
X-PUBLISHED-TTL:PT1H
BEGIN:VTIMEZONE
TZID:Europe/London
BEGIN:DAYLIGHT
TZOFFSETFROM:+0000
TZOFFSETTO:+0100
TZNAME:BST
DTSTART:20220327T010000
END:DAYLIGHT
BEGIN:STANDARD
TZOFFSETFROM:+0100
TZOFFSETTO:+0000
TZNAME:GMT
DTSTART:20221030T010000
END:STANDARD
BEGIN:DAYLIGHT
TZOFFSETFROM:+0000
TZOFFSETTO:+0100
TZNAME:BST
DTSTART:20230326T010000
END:DAYLIGHT
BEGIN:STANDARD
TZOFFSETFROM:+0100
TZOFFSETTO:+0000
TZNAME:GMT
DTSTART:20231029T010000
END:STANDARD
BEGIN:DAYLIGHT
TZOFFSETFROM:+0000
TZOFFSETTO:+0100
TZNAME:BST
DTSTART:20240331T010000
END:DAYLIGHT
BEGIN:STANDARD
TZOFFSETFROM:+0100
TZOFFSETTO:+0000
TZNAME:GMT
DTSTART:20241027T010000
END:STANDARD
END:VTIMEZONE
BEGIN:VEVENT
DTSTART;VALUE=DATE:20230522
DTEND;VALUE=DATE:20230813
DTSTAMP:20260420T231112
CREATED:20230523T110851Z
LAST-MODIFIED:20230710T114336Z
UID:1675-1684713600-1691884799@whms.org.uk
SUMMARY:The great White Horse Military Show raffle of 2023
DESCRIPTION:Here is a chance to see what we get up to after hours –  once the doors to the show are closed and people have gone home. The entertainment for the troops! \nAs a thank you to all the re-enactors and the crew for putting on such brilliant show together there will be some evening entertainment.  This is YOUR chance for you to join the troops for the evening. \nIt’s the evening of Saturday 19th August\, the evening party begins. In the main marquee\, starting at 7pm\, we have a great Swing Jive Band called The St Louis Express who play fantastic swing and Jive music throughout the ages. Jurij says “The guys were stupendous! Absolute gem\, professionals as musicians; brilliant as a performer” \nHis is followed by The Flaming Feathers\, A Vintage Cabaret body confident dance troop. The ‘Feathers’ are a versatile vintage dance troupe who specialise in all things cabaret. They have over a decade of experience so whether it’s a Roaring 20s Prohibition party\, a 50s Jive themed wedding or a Moulin Rouge style Burlesque night\, they can do it all. This is a grown-up event so we do not allow children into this event. \nAlso to add to the vibe of the evening we open up the Pearl Harbour Cocktail Bar. Again\, not seen by the public\, this is a place to relax and enjoy amazing cocktails made by our resident cocktail maker. The 1940s pub and food stalls will also be open. \nThe evening then at 11PM. \nWe are Raffling off 4 prizes for the Saturday evening. \nEach prize is 2 x Guest passes to join us for the evening; and also entry to the show on the Saturday daytime. If you have already bought tickets for Saturday these will be refunded. \nThe raffle will be drawn on Saturday 12 August at 12 noon via Facebook Live on our White Horse Military Show page. The winners will be contacted by us with further instructions. \nRaffle tickets are non-refundable. Drinks and food on Saturday evening will need to be purchased. \nNo Tickets for the Evening entertainment are for sale. It is a private event.
URL:https://whms.org.uk/event/the-great-white-horse-military-show-raffle-of-2023/
LOCATION:White Horse Military Show\, White Horse Military Show Ground\, South Wraxall\, Wiltshire\, BA152RL\, United Kingdom
ORGANIZER;CN="White Horse Military Weekend":MAILTO:admin@whms.org.uk
END:VEVENT
BEGIN:VEVENT
DTSTART;VALUE=DATE:20230819
DTEND;VALUE=DATE:20230821
DTSTAMP:20260420T231112
CREATED:20230314T032419Z
LAST-MODIFIED:20230723T093948Z
UID:328-1692403200-1692575999@whms.org.uk
SUMMARY:White Horse Military Show Event
DESCRIPTION:Here\, you can purchase the event ticket for the White Horse Military Show. We have two ticket types – one for Saturday and the other for Sunday.
URL:https://whms.org.uk/event/white-horse-military-show-weekend-event/
LOCATION:White Horse Military Show\, White Horse Military Show Ground\, South Wraxall\, Wiltshire\, BA152RL\, United Kingdom
ORGANIZER;CN="White Horse Military Weekend":MAILTO:admin@whms.org.uk
END:VEVENT
END:VCALENDAR