BEGIN:VCALENDAR
VERSION:2.0
PRODID:-//White Horse Show - ECPv6.15.20//NONSGML v1.0//EN
CALSCALE:GREGORIAN
METHOD:PUBLISH
X-ORIGINAL-URL:https://whms.org.uk
X-WR-CALDESC:Events for White Horse Show
REFRESH-INTERVAL;VALUE=DURATION:PT1H
X-Robots-Tag:noindex
X-PUBLISHED-TTL:PT1H
BEGIN:VTIMEZONE
TZID:Europe/London
BEGIN:DAYLIGHT
TZOFFSETFROM:+0000
TZOFFSETTO:+0100
TZNAME:BST
DTSTART:20250330T010000
END:DAYLIGHT
BEGIN:STANDARD
TZOFFSETFROM:+0100
TZOFFSETTO:+0000
TZNAME:GMT
DTSTART:20251026T010000
END:STANDARD
BEGIN:DAYLIGHT
TZOFFSETFROM:+0000
TZOFFSETTO:+0100
TZNAME:BST
DTSTART:20260329T010000
END:DAYLIGHT
BEGIN:STANDARD
TZOFFSETFROM:+0100
TZOFFSETTO:+0000
TZNAME:GMT
DTSTART:20261025T010000
END:STANDARD
BEGIN:DAYLIGHT
TZOFFSETFROM:+0000
TZOFFSETTO:+0100
TZNAME:BST
DTSTART:20270328T010000
END:DAYLIGHT
BEGIN:STANDARD
TZOFFSETFROM:+0100
TZOFFSETTO:+0000
TZNAME:GMT
DTSTART:20271031T010000
END:STANDARD
END:VTIMEZONE
BEGIN:VEVENT
DTSTART;TZID=Europe/London:20260814T100000
DTEND;TZID=Europe/London:20260816T170000
DTSTAMP:20260421T065137
CREATED:20260121T200515Z
LAST-MODIFIED:20260121T200515Z
UID:2828-1786701600-1786899600@whms.org.uk
SUMMARY:White Horse Military Show 2026
DESCRIPTION:Here it is the 4th production of the White Horse Military Show. This will be held on the 14th\, 15th and 16th August
URL:https://whms.org.uk/event/white-horse-military-show-2026/
LOCATION:White Horse Military Show\, White Horse Military Show Ground\, South Wraxall\, Wiltshire\, BA152RL\, United Kingdom
END:VEVENT
END:VCALENDAR